BEGIN:VCALENDAR
VERSION:2.0
PRODID:-//Tukios.com/
BEGIN:VEVENT
UID:26494652-a9e9-4f35-86ab-311a3128091a@www.brantleyphillipsfuneralhome.com
DTSTAMP:20260423T043234Z
DTSTART:20260430T210000Z
DTEND:20260430T230000Z
SUMMARY:Celebration of Life
DESCRIPTION:
URL:https://www.brantleyphillipsfuneralhome.com/obituaries/danny-rutherford
LOCATION:Hernando Golf & Racquet Club 1000 Bradley Dr  Hernando MS 38632
GEO:34.8517537;-89.9758796
END:VEVENT
END:VCALENDAR