BEGIN:VCALENDAR
VERSION:2.0
PRODID:-//Tukios.com/
BEGIN:VEVENT
UID:23eff66c-6b07-4c52-a768-5e13129fb80b@www.brantleyphillipsfuneralhome.com
DTSTAMP:20260423T043207Z
DTSTART:20260430T190000Z
DTEND:20260430T200000Z
SUMMARY:Memorial Service
DESCRIPTION:
URL:https://www.brantleyphillipsfuneralhome.com/obituaries/danny-rutherford
LOCATION:Idlewild Presbyterian Church 1750 Union Avenue  Memphis TN 38104
GEO:35.1359203;-90.0032653
END:VEVENT
END:VCALENDAR