BEGIN:VCALENDAR
VERSION:2.0
PRODID:-//Tukios.com/
BEGIN:VEVENT
UID:fcc8381e-c170-4699-94b3-5e71f5139028@www.brantleyphillipsfuneralhome.com
DTSTAMP:20260425T001412Z
DTSTART:20260430T160000Z
DTEND:20260430T170000Z
SUMMARY:Graveside Service
DESCRIPTION:
URL:https://www.brantleyphillipsfuneralhome.com/obituaries/harley-berg
LOCATION: 2805 Magnolia Drive  Hernando MS 38632
GEO:34.8191532;-89.9898776
END:VEVENT
END:VCALENDAR